BEGIN:VCALENDAR
VERSION:2.0
PRODID:-// VUCASUPPORT Events Calendar //vucasupport.com//
CALSCALE:GREGORIAN
X-WR-CALNAME:VUCASUPPORT Beratung
X-WR-TIMEZONE:Europe/Berlin
BEGIN:VEVENT
SUMMARY:VUCASUPPORT Beratung
DTSTART:20261218T110000Z
DTEND:20261218T120000Z
DTSTAMP:20261218T110000Z
UID:vucasupport.16255.events.baf71478-3ca0-11f1-a05b-0ab0280bdaeb
DESCRIPTION:
ORGANIZER:
END:VEVENT
END:VCALENDAR
