BEGIN:VCALENDAR
VERSION:2.0
PRODID:-// VUCASUPPORT Events Calendar //vucasupport.com//
CALSCALE:GREGORIAN
X-WR-CALNAME:VUCASUPPORT Beratung
X-WR-TIMEZONE:Europe/Berlin
BEGIN:VEVENT
SUMMARY:VUCASUPPORT Beratung
DTSTART:20261223T110000Z
DTEND:20261223T120000Z
DTSTAMP:20261223T110000Z
UID:vucasupport.16263.events.bb6a9ab0-3ca0-11f1-88e2-0ab0280bdaeb
DESCRIPTION:
ORGANIZER:
END:VEVENT
END:VCALENDAR
