BEGIN:VCALENDAR
VERSION:2.0
PRODID:-// VUCASUPPORT Events Calendar //vucasupport.com//
CALSCALE:GREGORIAN
X-WR-CALNAME:VUCASUPPORT Beratung
X-WR-TIMEZONE:Europe/Berlin
BEGIN:VEVENT
SUMMARY:VUCASUPPORT Beratung
DTSTART:20270514T140000Z
DTEND:20270514T150000Z
DTSTAMP:20270514T140000Z
UID:vucasupport.16595.events.dbeb9320-3ca0-11f1-a52c-0ab0280bdaeb
DESCRIPTION:
ORGANIZER:
END:VEVENT
END:VCALENDAR
