BEGIN:VCALENDAR
VERSION:2.0
PRODID:-// VUCASUPPORT Events Calendar //vucasupport.com//
CALSCALE:GREGORIAN
X-WR-CALNAME:VUCASUPPORT Beratung
X-WR-TIMEZONE:Europe/Berlin
BEGIN:VEVENT
SUMMARY:VUCASUPPORT Beratung
DTSTART:20270521T100000Z
DTEND:20270521T110000Z
DTSTAMP:20270521T100000Z
UID:vucasupport.16607.events.5c07427a-3cbf-11f1-88e2-0ab0280bdaeb
DESCRIPTION:
ORGANIZER:
END:VEVENT
END:VCALENDAR
