BEGIN:VCALENDAR
VERSION:2.0
PRODID:-// VUCASUPPORT Events Calendar //vucasupport.com//
CALSCALE:GREGORIAN
X-WR-CALNAME:LSP Deutsch
X-WR-TIMEZONE:Europe/Berlin
BEGIN:VEVENT
SUMMARY:Webmeeting starten
DTSTART:20210519T090000Z
DTEND:20210521T100000Z
DTSTAMP:20210519T090000Z
UID:vucasupport.16790.events.4f06a00a-3c9e-11f1-a44a-0ab0280bdaeb
DESCRIPTION:
ORGANIZER:
END:VEVENT
END:VCALENDAR
