BEGIN:VCALENDAR
VERSION:2.0
PRODID:-// VUCASUPPORT Events Calendar //vucasupport.com//
CALSCALE:GREGORIAN
X-WR-CALNAME:VUCASUPPORT Beratung
X-WR-TIMEZONE:Europe/Berlin
BEGIN:VEVENT
SUMMARY:VUCASUPPORT Beratung
DTSTART:20271027T150000Z
DTEND:20271027T160000Z
DTSTAMP:20271027T150000Z
UID:vucasupport.16972.events.ef2b18f2-3ca0-11f1-97e9-0ab0280bdaeb
DESCRIPTION:
ORGANIZER:
END:VEVENT
END:VCALENDAR
