BEGIN:VCALENDAR
VERSION:2.0
PRODID:-// VUCASUPPORT Events Calendar //vucasupport.com//
CALSCALE:GREGORIAN
X-WR-CALNAME:Erstgespräch VUCASUPPORT®
X-WR-TIMEZONE:Europe/Berlin
BEGIN:VEVENT
SUMMARY:Erstgespräch VUCASUPPORT®
DTSTART:20260611T053000Z
DTEND:20260611T054500Z
DTSTAMP:20260611T053000Z
UID:vucasupport.17753.events.35a33eea-3ca1-11f1-a05b-0ab0280bdaeb
DESCRIPTION:
ORGANIZER:
END:VEVENT
END:VCALENDAR
