BEGIN:VCALENDAR
VERSION:2.0
PRODID:-// VUCASUPPORT Events Calendar //vucasupport.com//
CALSCALE:GREGORIAN
X-WR-CALNAME:Erstgespräch VUCASUPPORT®
X-WR-TIMEZONE:Europe/Berlin
BEGIN:VEVENT
SUMMARY:Erstgespräch VUCASUPPORT®
DTSTART:20260615T061500Z
DTEND:20260615T063000Z
DTSTAMP:20260615T061500Z
UID:vucasupport.17760.events.6952d4c6-3ca1-11f1-a0b0-0ab0280bdaeb
DESCRIPTION:
ORGANIZER:
END:VEVENT
END:VCALENDAR
