BEGIN:VCALENDAR
VERSION:2.0
PRODID:-// VUCASUPPORT Events Calendar //vucasupport.com//
CALSCALE:GREGORIAN
X-WR-CALNAME:Erstgespräch VUCASUPPORT®
X-WR-TIMEZONE:Europe/Berlin
BEGIN:VEVENT
SUMMARY:Erstgespräch VUCASUPPORT®
DTSTART:20260622T054500Z
DTEND:20260622T060000Z
DTSTAMP:20260622T054500Z
UID:vucasupport.17766.events.684f4e4c-3ca1-11f1-a99c-0ab0280bdaeb
DESCRIPTION:
ORGANIZER:
END:VEVENT
END:VCALENDAR
