BEGIN:VCALENDAR
VERSION:2.0
PRODID:-// VUCASUPPORT Events Calendar //vucasupport.com//
CALSCALE:GREGORIAN
X-WR-CALNAME:Erstgespräch VUCASUPPORT®
X-WR-TIMEZONE:Europe/Berlin
BEGIN:VEVENT
SUMMARY:Erstgespräch VUCASUPPORT®
DTSTART:20261228T071500Z
DTEND:20261228T073000Z
DTSTAMP:20261228T071500Z
UID:vucasupport.17984.events.c3d71aee-3c9f-11f1-9279-0ab0280bdaeb
DESCRIPTION:
ORGANIZER:
END:VEVENT
END:VCALENDAR
