BEGIN:VCALENDAR
VERSION:2.0
PRODID:-// VUCASUPPORT Events Calendar //vucasupport.com//
CALSCALE:GREGORIAN
X-WR-CALNAME:Erstgespräch VUCASUPPORT®
X-WR-TIMEZONE:Europe/Berlin
BEGIN:VEVENT
SUMMARY:Erstgespräch VUCASUPPORT®
DTSTART:20270104T064500Z
DTEND:20270104T070000Z
DTSTAMP:20270104T064500Z
UID:vucasupport.17990.events.59f9b0d0-3ca1-11f1-9e06-0ab0280bdaeb
DESCRIPTION:
ORGANIZER:
END:VEVENT
END:VCALENDAR
